BEGIN:VCALENDAR
VERSION:2.0
PRODID:-//Squarespace Inc/Squarespace 6//v6//EN
BEGIN:VEVENT
UID:5f07fb24ab8a464066975b29@squarespace.com
DTSTAMP:20200710T052542Z
DTSTART:20200716T010000Z
DTEND:20200716T080000Z
SUMMARY:181 William Street - Cancelled
GEO:-37.815189;144.957587
LOCATION:181 William Street\, Melbourne\, VIC\, 3000\, Australia
END:VEVENT
END:VCALENDAR
