BEGIN:VCALENDAR
VERSION:2.0
PRODID:-//Squarespace Inc/Squarespace 6//v6//EN
BEGIN:VEVENT
UID:5f07f8bc6bf33029d7eb74be@squarespace.com
DTSTAMP:20200710T052746Z
DTSTART:20200715T010000Z
DTEND:20200715T080000Z
SUMMARY:181 William Street - Cancelled
GEO:-37.815189;144.957587
LOCATION:181 William Street\, Melbourne\, VIC\, 3000\, Australia
END:VEVENT
END:VCALENDAR
