BEGIN:VCALENDAR
VERSION:2.0
PRODID:-//Squarespace Inc/Squarespace 6//v6//EN
BEGIN:VEVENT
UID:5f080c8d1f238d28aa9a8f44@squarespace.com
DTSTAMP:20200710T063739Z
DTSTART:20200710T010000Z
DTEND:20200710T080000Z
SUMMARY:2 Southbank Boulevard
GEO:-37.821984;144.962964
LOCATION:2 Southbank Boulevard\, Melbourne\, Australia
END:VEVENT
END:VCALENDAR
