BEGIN:VCALENDAR
VERSION:2.0
PRODID:-//Squarespace Inc/Squarespace 6//v6//EN
BEGIN:VEVENT
UID:5f08005e95ae1b6df657eaa6@squarespace.com
DTSTAMP:20200710T054611Z
DTSTART:20200701T010000Z
DTEND:20200701T080000Z
SUMMARY:222 Exhibition Street - Cancelled
GEO:-37.810551;144.970219
LOCATION:222 Exhibition Street\, Melbourne\, VIC\, 3000\, Australia
END:VEVENT
END:VCALENDAR
