BEGIN:VCALENDAR
VERSION:2.0
PRODID:-//Squarespace Inc/Squarespace 6//v6//EN
BEGIN:VEVENT
UID:5f07fc5b5417cf51de3828ea@squarespace.com
DTSTAMP:20200710T053157Z
DTSTART:20200717T010000Z
DTEND:20200717T080000Z
SUMMARY:28 Freshwater Place - Cancelled
GEO:-37.822752;144.962302
LOCATION:28 Freshwater Place\, Southbank\, VIC\, 3006\, Australia
END:VEVENT
END:VCALENDAR
