BEGIN:VCALENDAR
VERSION:2.0
PRODID:-//Squarespace Inc/Squarespace 6//v6//EN
BEGIN:VEVENT
UID:5f080d30db9508010b1732b1@squarespace.com
DTSTAMP:20200710T064034Z
DTSTART:20200730T010000Z
DTEND:20200730T080000Z
SUMMARY: 360 Elizabeth Street - Cancelled
GEO:-37.810736;144.962217
LOCATION:360 Elizabeth Street\, Melbourne\, Australia
END:VEVENT
END:VCALENDAR
