BEGIN:VCALENDAR
VERSION:2.0
PRODID:-//Squarespace Inc/Squarespace 6//v6//EN
BEGIN:VEVENT
UID:5f080cebca644a41805a00a4@squarespace.com
DTSTAMP:20200710T063926Z
DTSTART:20200729T010000Z
DTEND:20200729T080000Z
SUMMARY:360 Elizabeth Street - Cancelled
GEO:-37.810736;144.962217
LOCATION:360 Elizabeth Street\, Melbourne\, Australia
END:VEVENT
END:VCALENDAR
