BEGIN:VCALENDAR
VERSION:2.0
PRODID:-//Squarespace Inc/Squarespace 6//v6//EN
BEGIN:VEVENT
UID:5f080d6f114117107d031490@squarespace.com
DTSTAMP:20200710T064148Z
DTSTART:20200731T010000Z
DTEND:20200731T080000Z
SUMMARY:464 St Kilda Road - Cancelled
GEO:-37.8406;144.976285
LOCATION:464 St Kilda Road\, Melbourne\, Australia
END:VEVENT
END:VCALENDAR
