BEGIN:VCALENDAR
VERSION:2.0
PRODID:-//Squarespace Inc/Squarespace 6//v6//EN
BEGIN:VEVENT
UID:5f07fe40f9ea237b87631932@squarespace.com
DTSTAMP:20200710T053712Z
DTSTART:20200723T010000Z
DTEND:20200723T080000Z
SUMMARY:550 Bourke Street - Cancelled
GEO:-37.815309;144.957066
LOCATION:550 Bourke Street\, Melbourne\, Australia
END:VEVENT
END:VCALENDAR
