BEGIN:VCALENDAR
VERSION:2.0
PRODID:-//Squarespace Inc/Squarespace 6//v6//EN
BEGIN:VEVENT
UID:5f080c3ff9ea237b876431fe@squarespace.com
DTSTAMP:20200710T063628Z
DTSTART:20200709T010000Z
DTEND:20200709T080000Z
SUMMARY:567 Collins Street - Cancelled
GEO:-37.819072;144.955763
LOCATION:567 Collins Street\, Melbourne\, Australia
END:VEVENT
END:VCALENDAR
