BEGIN:VCALENDAR
VERSION:2.0
PRODID:-//Squarespace Inc/Squarespace 6//v6//EN
BEGIN:VEVENT
UID:5f080be4e5857b7af3902b4f@squarespace.com
DTSTAMP:20200710T063530Z
DTSTART:20200708T010000Z
DTEND:20200708T080000Z
SUMMARY:567 Collins Street - Cancelled
GEO:-37.819072;144.955763
LOCATION:567 Collins Street\, Melbourne\, Australia
END:VEVENT
END:VCALENDAR
