BEGIN:VCALENDAR
VERSION:2.0
PRODID:-//Squarespace Inc/Squarespace 6//v6//EN
BEGIN:VEVENT
UID:5f0801889155105c4e4861b6@squarespace.com
DTSTAMP:20200710T055044Z
DTSTART:20200703T010000Z
DTEND:20200703T080000Z
SUMMARY:Rialto - 525 Collins Street - Cancelled
GEO:-37.818547;144.957293
LOCATION:525 Collins Street\, Melbourne\, Australia
END:VEVENT
END:VCALENDAR
