BEGIN:VCALENDAR
VERSION:2.0
PRODID:-//Squarespace Inc/Squarespace 6//v6//EN
BEGIN:VEVENT
UID:5f08012020d98161b7da412b@squarespace.com
DTSTAMP:20200710T054949Z
DTSTART:20200702T010000Z
DTEND:20200702T080000Z
SUMMARY:Rialto - 525 Collins Street - Cancelled
GEO:-37.818547;144.957293
LOCATION:525 Collins Street\, Melbourne\, Australia
END:VEVENT
END:VCALENDAR
