BEGIN:VCALENDAR
VERSION:2.0
PRODID:-//Squarespace Inc/Squarespace 6//v6//EN
BEGIN:VEVENT
UID:5f07fe9f7594eb11c44996f8@squarespace.com
DTSTAMP:20200710T054056Z
DTSTART:20200724T010000Z
DTEND:20200724T080000Z
SUMMARY:World Trade Centre - 18/38 Siddeley Street - Cancelled
GEO:-37.822674;144.953839
LOCATION:18/38 Siddeley Street\, Melbourne\, Australia
END:VEVENT
END:VCALENDAR
